BEGIN:VCALENDAR
VERSION:2.0
PRODID:-//INFIT NLP INSTITUT - ECPv6.8.2.1//NONSGML v1.0//EN
CALSCALE:GREGORIAN
METHOD:PUBLISH
X-WR-CALNAME:INFIT NLP INSTITUT
X-ORIGINAL-URL:https://infit-nlp-institut.de
X-WR-CALDESC:Veranstaltungen für INFIT NLP INSTITUT
REFRESH-INTERVAL;VALUE=DURATION:PT1H
X-Robots-Tag:noindex
X-PUBLISHED-TTL:PT1H
BEGIN:VTIMEZONE
TZID:Europe/Berlin
BEGIN:DAYLIGHT
TZOFFSETFROM:+0100
TZOFFSETTO:+0200
TZNAME:CEST
DTSTART:20190331T010000
END:DAYLIGHT
BEGIN:STANDARD
TZOFFSETFROM:+0200
TZOFFSETTO:+0100
TZNAME:CET
DTSTART:20191027T010000
END:STANDARD
END:VTIMEZONE
BEGIN:VEVENT
DTSTART;TZID=Europe/Berlin:20190306T180000
DTEND;TZID=Europe/Berlin:20190306T205000
DTSTAMP:20260422T170432
CREATED:20181213T123244Z
LAST-MODIFIED:20190228T194841Z
UID:1745-1551895200-1551905400@infit-nlp-institut.de
SUMMARY:Klartext reden miteinander!
DESCRIPTION:„Wir streiten uns nur mit Menschen\, die uns wichtig sind!“ Berit Brockhausen \nFolge meiner lebensverändernden Schritt-für Schritt-Anleitung \n1. 5 Geheimnisse hinter den Emotionen entdecken\n2. 8 Spielregeln für Paare\, die von einer gesunden Streitkultur überzeugt sind.\n3. Wie geht ein Klärungsgespräch?\n4. Wie halten wir das Selbstwertgefühl aufrecht? \nErfahre in diesem kostenfreien Seminar wie Klartext reden miteinander sehr\, sehr\, sehr beiden gut tut\ndeine Beziehung festigt\, ihr einander wieder besser versteht. \nIch begleite dich\, euch durch viele Übungen und freue mich auf dich\, auf euch! \nEs ist ein großartiges Angebot kostenfrei so viel umsetzbare und einfache Worte sofort füreinander zu finden. \nDu wirst begeistert sein!\nMelde dich JETZT gleich an \nIch freue mich sehr darauf! \nMit allen guten Wünschen \nUte Moßbrucker \nPS: Jeder Tag\, wo dieses Wissen nicht erfahren wird\, ist ein verlorener Tag.
URL:https://infit-nlp-institut.de/event/klartext-reden-miteinander/
LOCATION:Radolfzell am Bodensee\, Otto-Blesch-Str.5/2\, Radolfzell\, Deutschland\, 78315\, Deutschland
CATEGORIES:Gratis,Seminar
ORGANIZER;CN="INFIT NLP INSTITUT":MAILTO:info@infit-nlp-institut.de
END:VEVENT
END:VCALENDAR